BEGIN:VCALENDAR
VERSION:2.0
PRODID:-//Ornithologischer Verein Halle e. V. - ECPv5.16.4//NONSGML v1.0//EN
CALSCALE:GREGORIAN
METHOD:PUBLISH
X-WR-CALNAME:Ornithologischer Verein Halle e. V.
X-ORIGINAL-URL:https://www.ornithologischer-verein-halle.de
X-WR-CALDESC:Veranstaltungen für Ornithologischer Verein Halle e. V.
REFRESH-INTERVAL;VALUE=DURATION:PT1H
X-Robots-Tag:noindex
X-PUBLISHED-TTL:PT1H
BEGIN:VTIMEZONE
TZID:Europe/Berlin
BEGIN:DAYLIGHT
TZOFFSETFROM:+0100
TZOFFSETTO:+0200
TZNAME:CEST
DTSTART:20240331T010000
END:DAYLIGHT
BEGIN:STANDARD
TZOFFSETFROM:+0200
TZOFFSETTO:+0100
TZNAME:CET
DTSTART:20241027T010000
END:STANDARD
END:VTIMEZONE
BEGIN:VEVENT
DTSTART;TZID=Europe/Berlin:20240504T080000
DTEND;TZID=Europe/Berlin:20240504T080000
DTSTAMP:20260421T215242
CREATED:20240303T182708Z
LAST-MODIFIED:20240303T182708Z
UID:6548-1714809600-1714809600@www.ornithologischer-verein-halle.de
SUMMARY:Eine Vogelwanderung durch Halle-Neustadt
DESCRIPTION:Führung: Prof. Dr. E. Fuchs   (Ornithologischer Verein Halle) \nTreffpunkt um 08:00 Uhr vor dem „Wohngucker“ (Neustadt-Zentrum)
URL:https://www.ornithologischer-verein-halle.de/event/eine-vogelwanderung-durch-halle-neustadt/
LOCATION:Neustadt-Zentrum\, Neustädter Passage 17d\, Halle\, 06122\, Deutschland
END:VEVENT
BEGIN:VEVENT
DTSTART;TZID=Europe/Berlin:20240504T180000
DTEND;TZID=Europe/Berlin:20240504T180000
DTSTAMP:20260421T215242
CREATED:20240103T190039Z
LAST-MODIFIED:20240103T190039Z
UID:6492-1714845600-1714845600@www.ornithologischer-verein-halle.de
SUMMARY:Öffentliche Führung: Abendspaziergang zu den Nachtigallen mit Robert Bonan
DESCRIPTION:Dauer der Führung ca. 2h \nTreffpunkt Parkplatz „Haus am Fuchsberg“\, Fuchsbergstr. 36\, Kröllwitz \n 
URL:https://www.ornithologischer-verein-halle.de/event/oeffentliche-fuehrung-abendspaziergang-zu-den-nachtigallen-mit-robert-bonan/
LOCATION:Gaststätte „Haus am Fuchsberg“\, Fuchsbergstr. 36\, Halle\, 06108\, Deutschland
END:VEVENT
BEGIN:VEVENT
DTSTART;TZID=Europe/Berlin:20240511T080000
DTEND;TZID=Europe/Berlin:20240511T170000
DTSTAMP:20260421T215242
CREATED:20240103T190207Z
LAST-MODIFIED:20240103T190207Z
UID:6494-1715414400-1715446800@www.ornithologischer-verein-halle.de
SUMMARY:Vogelbeobachtungen für Kinder und Begleitpersonen mit Robert Bonan
DESCRIPTION:Dauer der Führung ca. 2h\, bitte Voranmeldung unter bonan@freenet.de \nTreffpunkt Parkplatz „Haus am Fuchsberg“\, Fuchsbergstr. 36\, Kröllwitz
URL:https://www.ornithologischer-verein-halle.de/event/vogelbeobachtungen-fuer-kinder-und-begleitpersonen-mit-robert-bonan/
LOCATION:Gaststätte „Haus am Fuchsberg“\, Fuchsbergstr. 36\, Halle\, 06108\, Deutschland
END:VEVENT
BEGIN:VEVENT
DTSTART;TZID=Europe/Berlin:20240516T193000
DTEND;TZID=Europe/Berlin:20240516T193000
DTSTAMP:20260421T215242
CREATED:20240106T171030Z
LAST-MODIFIED:20240106T171030Z
UID:6503-1715887800-1715887800@www.ornithologischer-verein-halle.de
SUMMARY:Vereinsabend
DESCRIPTION:Mitteilungen des Vorstands\, Austausch über aktuelle Beobachtungen\, Literaturschau und persönliche Gespräche
URL:https://www.ornithologischer-verein-halle.de/event/vereinsabend-4/
LOCATION:Gaststätte „Haus am Fuchsberg“\, Fuchsbergstr. 36\, Halle\, 06108\, Deutschland
END:VEVENT
END:VCALENDAR