BEGIN:VCALENDAR
VERSION:2.0
PRODID:-//Ornithologischer Verein Halle e. V. - ECPv5.16.4//NONSGML v1.0//EN
CALSCALE:GREGORIAN
METHOD:PUBLISH
X-WR-CALNAME:Ornithologischer Verein Halle e. V.
X-ORIGINAL-URL:https://www.ornithologischer-verein-halle.de
X-WR-CALDESC:Veranstaltungen für Ornithologischer Verein Halle e. V.
REFRESH-INTERVAL;VALUE=DURATION:PT1H
X-Robots-Tag:noindex
X-PUBLISHED-TTL:PT1H
BEGIN:VTIMEZONE
TZID:Europe/Berlin
BEGIN:DAYLIGHT
TZOFFSETFROM:+0100
TZOFFSETTO:+0200
TZNAME:CEST
DTSTART:20240331T010000
END:DAYLIGHT
BEGIN:STANDARD
TZOFFSETFROM:+0200
TZOFFSETTO:+0100
TZNAME:CET
DTSTART:20241027T010000
END:STANDARD
END:VTIMEZONE
BEGIN:VEVENT
DTSTART;TZID=Europe/Berlin:20240208T190000
DTEND;TZID=Europe/Berlin:20240208T190000
DTSTAMP:20260422T032639
CREATED:20231231T133150Z
LAST-MODIFIED:20231231T133150Z
UID:6456-1707418800-1707418800@www.ornithologischer-verein-halle.de
SUMMARY:Vortragsabend: Artenreiche Vogelwelt zwischen Hochmoor und Ostseeküste- ein landeskundlich-ornithologischer Streifzug durch Estland (Adrian Gerloff)
DESCRIPTION:gemeinsame Veranstaltung von OVH und ZNS
URL:https://www.ornithologischer-verein-halle.de/event/vortragsabend-artenreiche-vogelwelt-zwischen-hochmoor-und-ostseekueste-ein-landeskundlich-ornithologischer-streifzug-durch-estland-adrian-gerloff/
LOCATION:Zoologisches Institut (Hörsaal)\, Domplatz 4\, Halle\, 06108
END:VEVENT
BEGIN:VEVENT
DTSTART;VALUE=DATE:20240217
DTEND;VALUE=DATE:20240219
DTSTAMP:20260422T032639
CREATED:20231231T133344Z
LAST-MODIFIED:20231231T133344Z
UID:6458-1708128000-1708300799@www.ornithologischer-verein-halle.de
SUMMARY:Internationale Wasservogelzählung
DESCRIPTION:Auf den Zählstrecken des Vereins in Halle und Umgebung
URL:https://www.ornithologischer-verein-halle.de/event/internationale-wasservogelzaehlung-9/
END:VEVENT
BEGIN:VEVENT
DTSTART;TZID=Europe/Berlin:20240228T190000
DTEND;TZID=Europe/Berlin:20240228T190000
DTSTAMP:20260422T032639
CREATED:20231231T133454Z
LAST-MODIFIED:20231231T133454Z
UID:6460-1709146800-1709146800@www.ornithologischer-verein-halle.de
SUMMARY:Vortragsabend: 50 Jahre Bestandsentwicklung Insel Kirr mit Film von H. Baier & R. Holz über das Salzgrasland „Das Niemandsland“ (Timm Spretke)
DESCRIPTION:gemeinsame Veranstaltung von OVH und ZNS
URL:https://www.ornithologischer-verein-halle.de/event/vortragsabend-50-jahre-bestandsentwicklung-insel-kirr-mit-film-von-h-baier-r-holz-ueber-das-salzgrasland-das-niemandsland-timm-spretke/
LOCATION:Zoologisches Institut (Hörsaal)\, Domplatz 4\, Halle\, 06108
END:VEVENT
END:VCALENDAR