BEGIN:VCALENDAR
VERSION:2.0
PRODID:-//Ornithologischer Verein Halle e. V. - ECPv5.16.4//NONSGML v1.0//EN
CALSCALE:GREGORIAN
METHOD:PUBLISH
X-WR-CALNAME:Ornithologischer Verein Halle e. V.
X-ORIGINAL-URL:https://www.ornithologischer-verein-halle.de
X-WR-CALDESC:Veranstaltungen für Ornithologischer Verein Halle e. V.
REFRESH-INTERVAL;VALUE=DURATION:PT1H
X-Robots-Tag:noindex
X-PUBLISHED-TTL:PT1H
BEGIN:VTIMEZONE
TZID:Europe/Berlin
BEGIN:DAYLIGHT
TZOFFSETFROM:+0100
TZOFFSETTO:+0200
TZNAME:CEST
DTSTART:20230326T010000
END:DAYLIGHT
BEGIN:STANDARD
TZOFFSETFROM:+0200
TZOFFSETTO:+0100
TZNAME:CET
DTSTART:20231029T010000
END:STANDARD
END:VTIMEZONE
BEGIN:VEVENT
DTSTART;TZID=Europe/Berlin:20231214T170000
DTEND;TZID=Europe/Berlin:20231214T170000
DTSTAMP:20260422T070013
CREATED:20230916T120206Z
LAST-MODIFIED:20230916T120206Z
UID:6427-1702573200-1702573200@www.ornithologischer-verein-halle.de
SUMMARY:Weihnachtsfeier für Mitglieder des OVH und Angehörige
DESCRIPTION:Treffpunkt: Zoologisches Institut\, Domplatz 4 (Seminarraum)
URL:https://www.ornithologischer-verein-halle.de/event/weihnachtsfeier-fuer-mitglieder-des-ovh-und-angehoerige-2/
LOCATION:Zoologisches Institut (Seminarraum)\, Domplatz 4\, Halle\, 06108
END:VEVENT
BEGIN:VEVENT
DTSTART;VALUE=DATE:20231217
DTEND;VALUE=DATE:20231219
DTSTAMP:20260422T070013
CREATED:20230916T120727Z
LAST-MODIFIED:20230916T120727Z
UID:6433-1702771200-1702943999@www.ornithologischer-verein-halle.de
SUMMARY:Internationale Wasservogelzählung
DESCRIPTION:Auf den Zählstrecken des Vereins in Halle und Umgebung
URL:https://www.ornithologischer-verein-halle.de/event/internationale-wasservogelzaehlung-8/
END:VEVENT
BEGIN:VEVENT
DTSTART;TZID=Europe/Berlin:20231217T090000
DTEND;TZID=Europe/Berlin:20231217T090000
DTSTAMP:20260422T070013
CREATED:20230916T120641Z
LAST-MODIFIED:20230916T121600Z
UID:6430-1702803600-1702803600@www.ornithologischer-verein-halle.de
SUMMARY:Öffentliche Führung: Winterliche Vogelbeobachtungen auf dem Gertraudenfriedhof
DESCRIPTION:Treffpunkt: Blumenladen Eingang Ecke Dessauer Straße/ Straßenbahn Es führt: Lukas Kratzsch
URL:https://www.ornithologischer-verein-halle.de/event/oeffentliche-fuehrung-winterliche-vogelbeobachtungen-auf-dem-gertraudenfriedhof-2/
LOCATION:Gertraudenfriedhf\, Dessauer Straße\, Halle\, 06118
END:VEVENT
END:VCALENDAR