BEGIN:VCALENDAR
VERSION:2.0
PRODID:-//Ornithologischer Verein Halle e. V. - ECPv5.16.4//NONSGML v1.0//EN
CALSCALE:GREGORIAN
METHOD:PUBLISH
X-ORIGINAL-URL:https://www.ornithologischer-verein-halle.de
X-WR-CALDESC:Veranstaltungen für Ornithologischer Verein Halle e. V.
REFRESH-INTERVAL;VALUE=DURATION:PT1H
X-Robots-Tag:noindex
X-PUBLISHED-TTL:PT1H
BEGIN:VTIMEZONE
TZID:Europe/Berlin
BEGIN:DAYLIGHT
TZOFFSETFROM:+0100
TZOFFSETTO:+0200
TZNAME:CEST
DTSTART:20230326T010000
END:DAYLIGHT
BEGIN:STANDARD
TZOFFSETFROM:+0200
TZOFFSETTO:+0100
TZNAME:CET
DTSTART:20231029T010000
END:STANDARD
END:VTIMEZONE
BEGIN:VEVENT
DTSTART;VALUE=DATE:20231103
DTEND;VALUE=DATE:20231106
DTSTAMP:20260422T084905
CREATED:20230916T115419Z
LAST-MODIFIED:20230916T121308Z
UID:6417-1698969600-1699228799@www.ornithologischer-verein-halle.de
SUMMARY:OSA- und Beringertagung in Gommern
DESCRIPTION:Die Mitglieder des OSA erhalten eine gesonderte Einladung. \nNäheres auf der OSA-Website \n 
URL:https://www.ornithologischer-verein-halle.de/event/osa-und-beringertagung-in-gommern/
END:VEVENT
BEGIN:VEVENT
DTSTART;TZID=Europe/Berlin:20231109T180000
DTEND;TZID=Europe/Berlin:20231109T180000
DTSTAMP:20260422T084905
CREATED:20230916T115526Z
LAST-MODIFIED:20230916T115526Z
UID:6419-1699552800-1699552800@www.ornithologischer-verein-halle.de
SUMMARY:Beiratssitzung gemeinsam mit dem Vereinsvorstand
DESCRIPTION:
URL:https://www.ornithologischer-verein-halle.de/event/beiratssitzung-gemeinsam-mit-dem-vereinsvorstand-2/
LOCATION:Gaststätte „Haus am Fuchsberg“\, Fuchsbergstr. 36\, Halle\, 06108\, Deutschland
END:VEVENT
BEGIN:VEVENT
DTSTART;TZID=Europe/Berlin:20231109T193000
DTEND;TZID=Europe/Berlin:20231109T193000
DTSTAMP:20260422T084905
CREATED:20230916T115706Z
LAST-MODIFIED:20230916T115706Z
UID:6421-1699558200-1699558200@www.ornithologischer-verein-halle.de
SUMMARY:Vereinsabend: Winterbeobachtungen in Estland und Sommerbeobachtungen am Neusiedler See (Uwe Tieg)
DESCRIPTION:Mitteilungen des Vorstands\, Austausch über aktuelle Beobachtungen\, Li-teraturschau und persönliche Gespräche
URL:https://www.ornithologischer-verein-halle.de/event/vereinsabend-winterbeobachtungen-in-estland-und-sommerbeobachtungen-am-neusiedler-see-uwe-tieg/
LOCATION:Gaststätte „Haus am Fuchsberg“\, Fuchsbergstr. 36\, Halle\, 06108\, Deutschland
END:VEVENT
BEGIN:VEVENT
DTSTART;VALUE=DATE:20231111
DTEND;VALUE=DATE:20231113
DTSTAMP:20260422T084905
CREATED:20230916T115749Z
LAST-MODIFIED:20230916T115749Z
UID:6423-1699660800-1699833599@www.ornithologischer-verein-halle.de
SUMMARY:Internationale Wasservogelzählung
DESCRIPTION:Auf den Zählstrecken des Vereins in Halle und Umgebung
URL:https://www.ornithologischer-verein-halle.de/event/internationale-wasservogelzaehlung-7/
END:VEVENT
BEGIN:VEVENT
DTSTART;TZID=Europe/Berlin:20231129T190000
DTEND;TZID=Europe/Berlin:20231129T190000
DTSTAMP:20260422T084905
CREATED:20230916T115905Z
LAST-MODIFIED:20230916T115905Z
UID:6425-1701284400-1701284400@www.ornithologischer-verein-halle.de
SUMMARY:Vortragsabend: Chile: Vögel & Impressionen einer Reise (Kathrin Ballenthin und Peter Radtke)
DESCRIPTION:Gemeinsame Veranstaltung von OVH und ZNS
URL:https://www.ornithologischer-verein-halle.de/event/vortragsabend-chile-voegel-impressionen-einer-reise-kathrin-ballenthin-und-peter-radtke/
LOCATION:Zoologisches Institut (Hörsaal)\, Domplatz 4\, Halle\, 06108
END:VEVENT
END:VCALENDAR