BEGIN:VCALENDAR
VERSION:2.0
PRODID:-//Ornithologischer Verein Halle e. V. - ECPv5.16.4//NONSGML v1.0//EN
CALSCALE:GREGORIAN
METHOD:PUBLISH
X-WR-CALNAME:Ornithologischer Verein Halle e. V.
X-ORIGINAL-URL:https://www.ornithologischer-verein-halle.de
X-WR-CALDESC:Veranstaltungen für Ornithologischer Verein Halle e. V.
REFRESH-INTERVAL;VALUE=DURATION:PT1H
X-Robots-Tag:noindex
X-PUBLISHED-TTL:PT1H
BEGIN:VTIMEZONE
TZID:Europe/Berlin
BEGIN:DAYLIGHT
TZOFFSETFROM:+0100
TZOFFSETTO:+0200
TZNAME:CEST
DTSTART:20240331T010000
END:DAYLIGHT
BEGIN:STANDARD
TZOFFSETFROM:+0200
TZOFFSETTO:+0100
TZNAME:CET
DTSTART:20241027T010000
END:STANDARD
END:VTIMEZONE
BEGIN:VEVENT
DTSTART;TZID=Europe/Berlin:20240420T083000
DTEND;TZID=Europe/Berlin:20240420T083000
DTSTAMP:20260422T013148
CREATED:20240103T185149Z
LAST-MODIFIED:20240103T185149Z
UID:6483-1713601800-1713601800@www.ornithologischer-verein-halle.de
SUMMARY:Öffentliche Führung: Rundgang über die Rabeninsel (Mark Schönbrodt)
DESCRIPTION:Treffpunkt: Rabeninselbrücke am Böllberger Weg
URL:https://www.ornithologischer-verein-halle.de/event/oeffentliche-fuehrung-rundgang-ueber-die-rabeninsel-mark-schoenbrodt/
LOCATION:Rabeninselbrücke\, Böllberger Weg\, Halle\, 06128\, Deutschland
END:VEVENT
END:VCALENDAR