BEGIN:VCALENDAR
VERSION:2.0
PRODID:-//Ornithologischer Verein Halle e. V. - ECPv5.16.4//NONSGML v1.0//EN
CALSCALE:GREGORIAN
METHOD:PUBLISH
X-WR-CALNAME:Ornithologischer Verein Halle e. V.
X-ORIGINAL-URL:https://www.ornithologischer-verein-halle.de
X-WR-CALDESC:Veranstaltungen für Ornithologischer Verein Halle e. V.
REFRESH-INTERVAL;VALUE=DURATION:PT1H
X-Robots-Tag:noindex
X-PUBLISHED-TTL:PT1H
BEGIN:VTIMEZONE
TZID:Europe/Berlin
BEGIN:DAYLIGHT
TZOFFSETFROM:+0100
TZOFFSETTO:+0200
TZNAME:CEST
DTSTART:20240331T010000
END:DAYLIGHT
BEGIN:STANDARD
TZOFFSETFROM:+0200
TZOFFSETTO:+0100
TZNAME:CET
DTSTART:20241027T010000
END:STANDARD
END:VTIMEZONE
BEGIN:VEVENT
DTSTART;VALUE=DATE:20240413
DTEND;VALUE=DATE:20240415
DTSTAMP:20260422T013240
CREATED:20240103T184929Z
LAST-MODIFIED:20240103T185037Z
UID:6480-1712966400-1713139199@www.ornithologischer-verein-halle.de
SUMMARY:Internationale Wasservogelzählung
DESCRIPTION:Auf den Zählstrecken des Vereins in Halle und Umgebung\, nur für stehende Gewässer
URL:https://www.ornithologischer-verein-halle.de/event/internationale-wasservogelzaehlung-11/
END:VEVENT
BEGIN:VEVENT
DTSTART;TZID=Europe/Berlin:20240413T080000
DTEND;TZID=Europe/Berlin:20240413T190000
DTSTAMP:20260422T013240
CREATED:20240103T184840Z
LAST-MODIFIED:20240220T080421Z
UID:6478-1712995200-1713034800@www.ornithologischer-verein-halle.de
SUMMARY:Vereinsfahrt ins Dreba-Plothener Teichgebiet und zur Brehm-Gedenkstätte Renthendorf
DESCRIPTION:Wir werden 08:00 Uhr am Busbahnhof in Halle in das „Land der tausend Teiche“ starten. Die ca. 75 km² große Teichlandschaft wurde im 11./12. Jh. von Mönchen zur Fischzucht angelegt. Heute sind noch ca. 600 Teiche übrig. Wir werden am Vormittag mit Volker Vopel (Nabu\, Naturpark) am Hausteich und Umgebung exkursieren (ca. 4-5 km). Das Mittagessen ist im Gasthaus „Zum Plothenteich“ reserviert. Am Nachmittag werden wir die Brehm-Gedenkstätte in Renthendorf\, wo der „Vogelpastor“ Christian Ludwig Brehm und sein Sohn\, der „Tiervater“ Alfred Edmund Brehm lebten und wirkten\, besuchen. Kaffeetrinken werden wir selbst organisieren. Für 17:00 Uhr ist die Heimfahrt geplant. Spätestens 19:00 Uhr wollen wir wieder zurück in Halle sein. \nAnmeldung bitte unter Info@Ornithologischer-Verein-Halle.de Anmeldeschluss ist der 27.03.2024. Der Unkostenbeitrag für den Busausflug beträgt für Vereinsmitglieder 10 €\, für Gäste 15 € und für Kinder 5 €. Die Kosten für den Eintritt in die Brehmgedenkstätte übernimmt der OVH. Die Ausgaben für das Mittagessen in der Gaststätte sind durch die Teilnehmer selbst zu tragen. Bitte beachten Sie\, dass der Unkostenbeitrag bereits mit der Anmeldung auf das Vereinskonto unter dem Stichwort „Ausflug“ zu erbringen ist.
URL:https://www.ornithologischer-verein-halle.de/event/vereinsfahrt-ins-dreba-plothener-teichgebiet-und-zur-brehm-gedenkstaette-renthendorf/
LOCATION:Busbahnhof Riebeckplatz
END:VEVENT
END:VCALENDAR